BEGIN:VCALENDAR
VERSION:2.0
PRODID:-//193.239.44.119//NONSGML kigkonsult.se iCalcreator 2.20//
CALSCALE:GREGORIAN
METHOD:PUBLISH
X-WR-TIMEZONE:Europe/Warsaw
BEGIN:VEVENT
UID:event666@Parafia Rzymskokatolicka Najświętszego Serca Jezusowego w Łęcz
 u - Salezjanie
DTSTAMP:20260419T184242Z
CATEGORIES:Msza Święta
DESCRIPTION:+ ks. Stanisław Dudek - od Pani Jankowskiej\nKategoria: Msza Św
 ięta\nLink: https://lecze-salezjanie.pl/index.php?option=com_jem&view=even
 t&id=666:ks-stanislaw-dudek-od-pani-jankowskiej\n
DTSTART;TZID=Europe/Warsaw:20220817T180000
DTEND;TZID=Europe/Warsaw:20220817T180000
LOCATION:Kościół Najświętszego Serca Jezusowego w Łęczu\,Łęcze 48\,Łęcze
SUMMARY:+ ks. Stanisław Dudek - od Pani Jankowskiej
URL:https://lecze-salezjanie.pl/index.php?option=com_jem&view=event&id=666:
 ks-stanislaw-dudek-od-pani-jankowskiej
END:VEVENT
END:VCALENDAR