BEGIN:VCALENDAR
VERSION:2.0
PRODID:-//193.239.44.119//NONSGML kigkonsult.se iCalcreator 2.20//
CALSCALE:GREGORIAN
METHOD:PUBLISH
X-WR-TIMEZONE:Europe/Warsaw
BEGIN:VEVENT
UID:event66@Parafia Rzymskokatolicka Najświętszego Serca Jezusowego w Łęczu
  - Salezjanie
DTSTAMP:20260420T052605Z
CATEGORIES:Msza Święta
DESCRIPTION:Za zmarłych Współbraci Salezjanów\nKategoria: Msza Święta\nLink
 : https://lecze-salezjanie.pl/index.php?option=com_jem&view=event&id=66:za
 -zmarlych-wspolbraci-salezjanow\n
DTSTART;TZID=Europe/Warsaw:20220201T180000
DTEND;TZID=Europe/Warsaw:20220201T180000
LOCATION:Kościół Najświętszego Serca Jezusowego w Łęczu\,Łęcze 48\,Łęcze
SUMMARY:Za zmarłych Współbraci Salezjanów
URL:https://lecze-salezjanie.pl/index.php?option=com_jem&view=event&id=66:z
 a-zmarlych-wspolbraci-salezjanow
END:VEVENT
END:VCALENDAR