BEGIN:VCALENDAR
VERSION:2.0
PRODID:-//193.239.44.119//NONSGML kigkonsult.se iCalcreator 2.20//
CALSCALE:GREGORIAN
METHOD:PUBLISH
X-WR-TIMEZONE:Europe/Warsaw
BEGIN:VEVENT
UID:event676@Parafia Rzymskokatolicka Najświętszego Serca Jezusowego w Łęcz
 u - Salezjanie
DTSTAMP:20260419T202632Z
CATEGORIES:Pogrzeb
DESCRIPTION:+ Piotr Bernecki\nKategoria: Pogrzeb\nLink: https://lecze-salez
 janie.pl/index.php?option=com_jem&view=event&id=676:piotr-bernecki\n
DTSTART;TZID=Europe/Warsaw:20220714T100000
DTEND;TZID=Europe/Warsaw:20220714T100000
LOCATION:Kościół Maryi Wspomożycielki Wiernych w Suchaczu\,Kielecka 12B\,Su
 chacz
SUMMARY:+ Piotr Bernecki
URL:https://lecze-salezjanie.pl/index.php?option=com_jem&view=event&id=676:
 piotr-bernecki
END:VEVENT
END:VCALENDAR