BEGIN:VCALENDAR
VERSION:2.0
PRODID:-//193.239.44.119//NONSGML kigkonsult.se iCalcreator 2.20//
CALSCALE:GREGORIAN
METHOD:PUBLISH
X-WR-TIMEZONE:Europe/Warsaw
BEGIN:VEVENT
UID:event679@Parafia Rzymskokatolicka Najświętszego Serca Jezusowego w Łęcz
 u - Salezjanie
DTSTAMP:20260419T202952Z
CATEGORIES:Pogrzeb
DESCRIPTION:+ Krzysztof Bocian\nKategoria: Pogrzeb\nLink: https://lecze-sal
 ezjanie.pl/index.php?option=com_jem&view=event&id=679:krzysztof-bocian\n
DTSTART;TZID=Europe/Warsaw:20220718T130000
DTEND;TZID=Europe/Warsaw:20220718T130000
LOCATION:Kościół Najświętszego Serca Jezusowego w Łęczu\,Łęcze 48\,Łęcze
SUMMARY:+ Krzysztof Bocian
URL:https://lecze-salezjanie.pl/index.php?option=com_jem&view=event&id=679:
 krzysztof-bocian
END:VEVENT
END:VCALENDAR