BEGIN:VCALENDAR
VERSION:2.0
PRODID:-//193.239.44.119//NONSGML kigkonsult.se iCalcreator 2.20//
CALSCALE:GREGORIAN
METHOD:PUBLISH
X-WR-TIMEZONE:Europe/Warsaw
BEGIN:VEVENT
UID:event67@Parafia Rzymskokatolicka Najświętszego Serca Jezusowego w Łęczu
  - Salezjanie
DTSTAMP:20260420T051648Z
CATEGORIES:Msza Święta
DESCRIPTION:+ Stanisław Kaczan i Jan Stanulewicz\nKategoria: Msza Święta\nL
 ink: https://lecze-salezjanie.pl/index.php?option=com_jem&view=event&id=67
 :stanislaw-kaczan-i-jan-stanulewicz\n
DTSTART;TZID=Europe/Warsaw:20220202T180000
DTEND;TZID=Europe/Warsaw:20220202T180000
LOCATION:Kościół Najświętszego Serca Jezusowego w Łęczu\,Łęcze 48\,Łęcze
SUMMARY:+ Stanisław Kaczan i Jan Stanulewicz
URL:https://lecze-salezjanie.pl/index.php?option=com_jem&view=event&id=67:s
 tanislaw-kaczan-i-jan-stanulewicz
END:VEVENT
END:VCALENDAR