BEGIN:VCALENDAR
VERSION:2.0
PRODID:-//193.239.44.119//NONSGML kigkonsult.se iCalcreator 2.20//
CALSCALE:GREGORIAN
METHOD:PUBLISH
X-WR-TIMEZONE:Europe/Warsaw
BEGIN:VEVENT
UID:event681@Parafia Rzymskokatolicka Najświętszego Serca Jezusowego w Łęcz
 u - Salezjanie
DTSTAMP:20260419T184359Z
CATEGORIES:Msza Święta
DESCRIPTION:+ Krzysztof Bocian - w miesiąc po śmierci\nKategoria: Msza Świę
 ta\nLink: https://lecze-salezjanie.pl/index.php?option=com_jem&view=event&
 id=681:krzysztof-bocian-w-miesiac-po-smierci\n
DTSTART;TZID=Europe/Warsaw:20220819T180000
DTEND;TZID=Europe/Warsaw:20220819T180000
LOCATION:Kościół Najświętszego Serca Jezusowego w Łęczu\,Łęcze 48\,Łęcze
SUMMARY:+ Krzysztof Bocian - w miesiąc po śmierci
URL:https://lecze-salezjanie.pl/index.php?option=com_jem&view=event&id=681:
 krzysztof-bocian-w-miesiac-po-smierci
END:VEVENT
END:VCALENDAR