BEGIN:VCALENDAR
VERSION:2.0
PRODID:-//193.239.44.119//NONSGML kigkonsult.se iCalcreator 2.20//
CALSCALE:GREGORIAN
METHOD:PUBLISH
X-WR-TIMEZONE:Europe/Warsaw
BEGIN:VEVENT
UID:event682@Parafia Rzymskokatolicka Najświętszego Serca Jezusowego w Łęcz
 u - Salezjanie
DTSTAMP:20260419T184540Z
CATEGORIES:Msza Święta
DESCRIPTION:+ Kazimierz Milewski - w 20 rocznicę śmierci oraz zmarli rodzic
 e z obojga stron\nKategoria: Msza Święta\nLink: https://lecze-salezjanie.p
 l/index.php?option=com_jem&view=event&id=682:kazimierz-milewski-w-20-roczn
 ice-smierci-oraz-zmarli-rodzice-z-obojga-stron\n
DTSTART;TZID=Europe/Warsaw:20220814T090000
DTEND;TZID=Europe/Warsaw:20220814T090000
LOCATION:Kościół Najświętszego Serca Jezusowego w Łęczu\,Łęcze 48\,Łęcze
SUMMARY:+ Kazimierz Milewski - w 20 rocznicę śmierci oraz zmarli rodzice z 
 obojga stron
URL:https://lecze-salezjanie.pl/index.php?option=com_jem&view=event&id=682:
 kazimierz-milewski-w-20-rocznice-smierci-oraz-zmarli-rodzice-z-obojga-stro
 n
END:VEVENT
END:VCALENDAR