BEGIN:VCALENDAR
VERSION:2.0
PRODID:-//193.239.44.119//NONSGML kigkonsult.se iCalcreator 2.20//
CALSCALE:GREGORIAN
METHOD:PUBLISH
X-WR-TIMEZONE:Europe/Warsaw
BEGIN:VEVENT
UID:event683@Parafia Rzymskokatolicka Najświętszego Serca Jezusowego w Łęcz
 u - Salezjanie
DTSTAMP:20260419T184628Z
CATEGORIES:Msza Święta
DESCRIPTION:+ Piotr Bernecki - od Stowarzyszenia Miłośników Suchacza i okol
 icy w Suchaczu i Społeczności Szkoły Podstawowej w Suchaczu\nKategoria: Ms
 za Święta\nLink: https://lecze-salezjanie.pl/index.php?option=com_jem&view
 =event&id=683:piotr-bernecki-od-stowarzyszenia-milosnikow-suchacza-i-okoli
 cy-w-suchaczu-i-spolecznosci-szkoly-podstawowej-w-suchaczu\n
DTSTART;TZID=Europe/Warsaw:20220815T103000
DTEND;TZID=Europe/Warsaw:20220815T103000
LOCATION:Kościół Maryi Wspomożycielki Wiernych w Suchaczu\,Kielecka 12B\,Su
 chacz
SUMMARY:+ Piotr Bernecki - od Stowarzyszenia Miłośników Suchacza i okolicy 
 w Suchaczu i Społeczności Szkoły Podstawowej w Suchaczu
URL:https://lecze-salezjanie.pl/index.php?option=com_jem&view=event&id=683:
 piotr-bernecki-od-stowarzyszenia-milosnikow-suchacza-i-okolicy-w-suchaczu-
 i-spolecznosci-szkoly-podstawowej-w-suchaczu
END:VEVENT
END:VCALENDAR