BEGIN:VCALENDAR
VERSION:2.0
PRODID:-//193.239.44.119//NONSGML kigkonsult.se iCalcreator 2.20//
CALSCALE:GREGORIAN
METHOD:PUBLISH
X-WR-TIMEZONE:Europe/Warsaw
BEGIN:VEVENT
UID:event691@Parafia Rzymskokatolicka Najświętszego Serca Jezusowego w Łęcz
 u - Salezjanie
DTSTAMP:20260419T184523Z
CATEGORIES:Msza Święta
DESCRIPTION:+ Edward Chodulski - w 18 rocznicę śmierci\, zmarli rodzice z o
 bojga stron\, Bronisław Subotowicz\nKategoria: Msza Święta\nLink: https://
 lecze-salezjanie.pl/index.php?option=com_jem&view=event&id=691:edward-chod
 ulski-w-18-rocznice-smierci-zmarli-rodzice-z-obojga-stron-bronislaw-suboto
 wicz\n
DTSTART;TZID=Europe/Warsaw:20220821T120000
DTEND;TZID=Europe/Warsaw:20220821T120000
LOCATION:Kościół Najświętszego Serca Jezusowego w Łęczu\,Łęcze 48\,Łęcze
SUMMARY:+ Edward Chodulski - w 18 rocznicę śmierci\, zmarli rodzice z obojg
 a stron\, Bronisław Subotowicz
URL:https://lecze-salezjanie.pl/index.php?option=com_jem&view=event&id=691:
 edward-chodulski-w-18-rocznice-smierci-zmarli-rodzice-z-obojga-stron-broni
 slaw-subotowicz
END:VEVENT
END:VCALENDAR