BEGIN:VCALENDAR
VERSION:2.0
PRODID:-//193.239.44.119//NONSGML kigkonsult.se iCalcreator 2.20//
CALSCALE:GREGORIAN
METHOD:PUBLISH
X-WR-TIMEZONE:Europe/Warsaw
BEGIN:VEVENT
UID:event692@Parafia Rzymskokatolicka Najświętszego Serca Jezusowego w Łęcz
 u - Salezjanie
DTSTAMP:20260419T184523Z
CATEGORIES:Msza Święta
DESCRIPTION:+ Jerzy i Krzysztof Bocian - od rodziny z Grzędzic\nKategoria: 
 Msza Święta\nLink: https://lecze-salezjanie.pl/index.php?option=com_jem&vi
 ew=event&id=692:jerzy-i-krzysztof-bocian-od-rodziny-z-grzedzic\n
DTSTART;TZID=Europe/Warsaw:20220824T180000
DTEND;TZID=Europe/Warsaw:20220824T180000
LOCATION:Kościół Najświętszego Serca Jezusowego w Łęczu\,Łęcze 48\,Łęcze
SUMMARY:+ Jerzy i Krzysztof Bocian - od rodziny z Grzędzic
URL:https://lecze-salezjanie.pl/index.php?option=com_jem&view=event&id=692:
 jerzy-i-krzysztof-bocian-od-rodziny-z-grzedzic
END:VEVENT
END:VCALENDAR