BEGIN:VCALENDAR
VERSION:2.0
PRODID:-//193.239.44.119//NONSGML kigkonsult.se iCalcreator 2.20//
CALSCALE:GREGORIAN
METHOD:PUBLISH
X-WR-TIMEZONE:Europe/Warsaw
BEGIN:VEVENT
UID:event694@Parafia Rzymskokatolicka Najświętszego Serca Jezusowego w Łęcz
 u - Salezjanie
DTSTAMP:20260419T170308Z
CATEGORIES:Msza Święta
DESCRIPTION:Dziękczynna\, z prośbą o Dary Ducha Świętego i nieustanną opiek
 ę Matki Bożej w pracy i nauce dla dzieci i wnuków w roku szkolnym\nKategor
 ia: Msza Święta\nLink: https://lecze-salezjanie.pl/index.php?option=com_je
 m&view=event&id=694:dziekczynna-z-prosba-o-dary-ducha-swietego-i-nieustann
 a-opieke-matki-bozej-w-pracy-i-nauce-dla-dzieci-i-wnukow-w-roku-szkolnym\n
DTSTART;TZID=Europe/Warsaw:20220905T180000
DTEND;TZID=Europe/Warsaw:20220905T180000
LOCATION:Kościół Najświętszego Serca Jezusowego w Łęczu\,Łęcze 48\,Łęcze
SUMMARY:Dziękczynna\, z prośbą o Dary Ducha Świętego i nieustanną opiekę Ma
 tki Bożej w pracy i nauce dla dzieci i wnuków w roku szkolnym
URL:https://lecze-salezjanie.pl/index.php?option=com_jem&view=event&id=694:
 dziekczynna-z-prosba-o-dary-ducha-swietego-i-nieustanna-opieke-matki-bozej
 -w-pracy-i-nauce-dla-dzieci-i-wnukow-w-roku-szkolnym
END:VEVENT
END:VCALENDAR