BEGIN:VCALENDAR
VERSION:2.0
PRODID:-//193.239.44.119//NONSGML kigkonsult.se iCalcreator 2.20//
CALSCALE:GREGORIAN
METHOD:PUBLISH
X-WR-TIMEZONE:Europe/Warsaw
BEGIN:VEVENT
UID:event699@Parafia Rzymskokatolicka Najświętszego Serca Jezusowego w Łęcz
 u - Salezjanie
DTSTAMP:20260419T151739Z
CATEGORIES:Msza Święta
DESCRIPTION:+ Zofia\, Gerard Pokora i Bogdan Stalewski\nKategoria: Msza Świ
 ęta\nLink: https://lecze-salezjanie.pl/index.php?option=com_jem&view=event
 &id=699:zofia-gerard-pokora-i-bogdan-stalewski\n
DTSTART;TZID=Europe/Warsaw:20221016T120000
DTEND;TZID=Europe/Warsaw:20221016T120000
LOCATION:Kościół Najświętszego Serca Jezusowego w Łęczu\,Łęcze 48\,Łęcze
SUMMARY:+ Zofia\, Gerard Pokora i Bogdan Stalewski
URL:https://lecze-salezjanie.pl/index.php?option=com_jem&view=event&id=699:
 zofia-gerard-pokora-i-bogdan-stalewski
END:VEVENT
END:VCALENDAR