BEGIN:VCALENDAR
VERSION:2.0
PRODID:-//193.239.44.119//NONSGML kigkonsult.se iCalcreator 2.20//
CALSCALE:GREGORIAN
METHOD:PUBLISH
X-WR-TIMEZONE:Europe/Warsaw
BEGIN:VEVENT
UID:event701@Parafia Rzymskokatolicka Najświętszego Serca Jezusowego w Łęcz
 u - Salezjanie
DTSTAMP:20260419T152150Z
CATEGORIES:Msza Święta
DESCRIPTION:+ Stanisław i Zbigniew Grączewscy\, Teresa Kocur\nKategoria: Ms
 za Święta\nLink: https://lecze-salezjanie.pl/index.php?option=com_jem&view
 =event&id=701:stanislaw-i-zbigniew-graczewscy-teresa-kocur\n
DTSTART;TZID=Europe/Warsaw:20221023T090000
DTEND;TZID=Europe/Warsaw:20221023T090000
LOCATION:Kościół Najświętszego Serca Jezusowego w Łęczu\,Łęcze 48\,Łęcze
SUMMARY:+ Stanisław i Zbigniew Grączewscy\, Teresa Kocur
URL:https://lecze-salezjanie.pl/index.php?option=com_jem&view=event&id=701:
 stanislaw-i-zbigniew-graczewscy-teresa-kocur
END:VEVENT
END:VCALENDAR