BEGIN:VCALENDAR
VERSION:2.0
PRODID:-//193.239.44.119//NONSGML kigkonsult.se iCalcreator 2.20//
CALSCALE:GREGORIAN
METHOD:PUBLISH
X-WR-TIMEZONE:Europe/Warsaw
BEGIN:VEVENT
UID:event704@Parafia Rzymskokatolicka Najświętszego Serca Jezusowego w Łęcz
 u - Salezjanie
DTSTAMP:20260421T083031Z
CATEGORIES:Msza Święta
DESCRIPTION:+ Zdzisław Gruchalski - w 2 rocznicę śmierci\nKategoria: Msza Ś
 więta\nLink: https://lecze-salezjanie.pl/index.php?option=com_jem&view=eve
 nt&id=704:zdzislaw-gruchalski-w-2-rocznice-smierci\n
DTSTART;TZID=Europe/Warsaw:20221204T090000
DTEND;TZID=Europe/Warsaw:20221204T090000
LOCATION:Kościół Najświętszego Serca Jezusowego w Łęczu\,Łęcze 48\,Łęcze
SUMMARY:+ Zdzisław Gruchalski - w 2 rocznicę śmierci
URL:https://lecze-salezjanie.pl/index.php?option=com_jem&view=event&id=704:
 zdzislaw-gruchalski-w-2-rocznice-smierci
END:VEVENT
END:VCALENDAR