BEGIN:VCALENDAR
VERSION:2.0
PRODID:-//193.239.44.119//NONSGML kigkonsult.se iCalcreator 2.20//
CALSCALE:GREGORIAN
METHOD:PUBLISH
X-WR-TIMEZONE:Europe/Warsaw
BEGIN:VEVENT
UID:event706@Parafia Rzymskokatolicka Najświętszego Serca Jezusowego w Łęcz
 u - Salezjanie
DTSTAMP:20260419T184032Z
CATEGORIES:Pogrzeb
DESCRIPTION:+ Wiesław Grochulski\nKategoria: Pogrzeb\nLink: https://lecze-s
 alezjanie.pl/index.php?option=com_jem&view=event&id=706:wieslaw-grochulski
 \n
DTSTART;TZID=Europe/Warsaw:20220811T110000
DTEND;TZID=Europe/Warsaw:20220811T110000
LOCATION:Kościół Maryi Wspomożycielki Wiernych w Suchaczu\,Kielecka 12B\,Su
 chacz
SUMMARY:+ Wiesław Grochulski
URL:https://lecze-salezjanie.pl/index.php?option=com_jem&view=event&id=706:
 wieslaw-grochulski
END:VEVENT
END:VCALENDAR