BEGIN:VCALENDAR
VERSION:2.0
PRODID:-//193.239.44.119//NONSGML kigkonsult.se iCalcreator 2.20//
CALSCALE:GREGORIAN
METHOD:PUBLISH
X-WR-TIMEZONE:Europe/Warsaw
BEGIN:VEVENT
UID:event708@Parafia Rzymskokatolicka Najświętszego Serca Jezusowego w Łęcz
 u - Salezjanie
DTSTAMP:20260419T170134Z
CATEGORIES:Msza Święta
DESCRIPTION:Dziękczynna\, z prośbą o Dary Ducha Świętego i nieustanną opiek
 ę Matki Bożej dla Romualdy Szczepura i jej rodziny\nKategoria: Msza Święta
 \nLink: https://lecze-salezjanie.pl/index.php?option=com_jem&view=event&id
 =708:dziekczynna-z-prosba-o-dary-ducha-swietego-i-nieustanna-opieke-matki-
 bozej-dla-romualdy-szczepura-i-jej-rodziny\n
DTSTART;TZID=Europe/Warsaw:20220906T170000
DTEND;TZID=Europe/Warsaw:20220906T170000
LOCATION:Kościół Maryi Wspomożycielki Wiernych w Suchaczu\,Kielecka 12B\,Su
 chacz
SUMMARY:Dziękczynna\, z prośbą o Dary Ducha Świętego i nieustanną opiekę Ma
 tki Bożej dla Romualdy Szczepura i jej rodziny
URL:https://lecze-salezjanie.pl/index.php?option=com_jem&view=event&id=708:
 dziekczynna-z-prosba-o-dary-ducha-swietego-i-nieustanna-opieke-matki-bozej
 -dla-romualdy-szczepura-i-jej-rodziny
END:VEVENT
END:VCALENDAR