BEGIN:VCALENDAR
VERSION:2.0
PRODID:-//193.239.44.119//NONSGML kigkonsult.se iCalcreator 2.20//
CALSCALE:GREGORIAN
METHOD:PUBLISH
X-WR-TIMEZONE:Europe/Warsaw
BEGIN:VEVENT
UID:event709@Parafia Rzymskokatolicka Najświętszego Serca Jezusowego w Łęcz
 u - Salezjanie
DTSTAMP:20260419T170308Z
CATEGORIES:Msza Święta
DESCRIPTION:Zmarli z rodziny Rakoczych: Czesław\, Janina\, Zbigniew\, Zygmu
 nt i Wiesława\nKategoria: Msza Święta\nLink: https://lecze-salezjanie.pl/i
 ndex.php?option=com_jem&view=event&id=709:zmarli-z-rodziny-rakoczych-czesl
 aw-janina-zbigniew-zygmunt-i-wieslawa\n
DTSTART;TZID=Europe/Warsaw:20220904T090000
DTEND;TZID=Europe/Warsaw:20220904T090000
LOCATION:Kościół Maryi Wspomożycielki Wiernych w Suchaczu\,Kielecka 12B\,Su
 chacz
SUMMARY:Zmarli z rodziny Rakoczych: Czesław\, Janina\, Zbigniew\, Zygmunt i
  Wiesława
URL:https://lecze-salezjanie.pl/index.php?option=com_jem&view=event&id=709:
 zmarli-z-rodziny-rakoczych-czeslaw-janina-zbigniew-zygmunt-i-wieslawa
END:VEVENT
END:VCALENDAR