BEGIN:VCALENDAR
VERSION:2.0
PRODID:-//193.239.44.119//NONSGML kigkonsult.se iCalcreator 2.20//
CALSCALE:GREGORIAN
METHOD:PUBLISH
X-WR-TIMEZONE:Europe/Warsaw
BEGIN:VEVENT
UID:event710@Parafia Rzymskokatolicka Najświętszego Serca Jezusowego w Łęcz
 u - Salezjanie
DTSTAMP:20260419T170016Z
CATEGORIES:Msza Święta
DESCRIPTION:+ Wiesław Grochulski - w miesiąc po śmierci\nKategoria: Msza Św
 ięta\nLink: https://lecze-salezjanie.pl/index.php?option=com_jem&view=even
 t&id=710:wieslaw-grochulski-w-miesiac-po-smierci\n
DTSTART;TZID=Europe/Warsaw:20220911T090000
DTEND;TZID=Europe/Warsaw:20220911T090000
LOCATION:Kościół Maryi Wspomożycielki Wiernych w Suchaczu\,Kielecka 12B\,Su
 chacz
SUMMARY:+ Wiesław Grochulski - w miesiąc po śmierci
URL:https://lecze-salezjanie.pl/index.php?option=com_jem&view=event&id=710:
 wieslaw-grochulski-w-miesiac-po-smierci
END:VEVENT
END:VCALENDAR