BEGIN:VCALENDAR
VERSION:2.0
PRODID:-//193.239.44.119//NONSGML kigkonsult.se iCalcreator 2.20//
CALSCALE:GREGORIAN
METHOD:PUBLISH
X-WR-TIMEZONE:Europe/Warsaw
BEGIN:VEVENT
UID:event711@Parafia Rzymskokatolicka Najświętszego Serca Jezusowego w Łęcz
 u - Salezjanie
DTSTAMP:20260419T170009Z
CATEGORIES:Msza Święta
DESCRIPTION:O radość życia wiecznego dla rodziców\nKategoria: Msza Święta\n
 Link: https://lecze-salezjanie.pl/index.php?option=com_jem&view=event&id=7
 11:o-radosc-zycia-wiecznego-dla-rodzicow\n
DTSTART;TZID=Europe/Warsaw:20220911T103000
DTEND;TZID=Europe/Warsaw:20220911T103000
LOCATION:Kościół Maryi Wspomożycielki Wiernych w Suchaczu\,Kielecka 12B\,Su
 chacz
SUMMARY:O radość życia wiecznego dla rodziców
URL:https://lecze-salezjanie.pl/index.php?option=com_jem&view=event&id=711:
 o-radosc-zycia-wiecznego-dla-rodzicow
END:VEVENT
END:VCALENDAR