BEGIN:VCALENDAR
VERSION:2.0
PRODID:-//193.239.44.119//NONSGML kigkonsult.se iCalcreator 2.20//
CALSCALE:GREGORIAN
METHOD:PUBLISH
X-WR-TIMEZONE:Europe/Warsaw
BEGIN:VEVENT
UID:event714@Parafia Rzymskokatolicka Najświętszego Serca Jezusowego w Łęcz
 u - Salezjanie
DTSTAMP:20260419T170016Z
CATEGORIES:Msza Święta
DESCRIPTION:O opiekę Matki Bożej i Łaski Ducha Świętego dla dzieci\nKategor
 ia: Msza Święta\nLink: https://lecze-salezjanie.pl/index.php?option=com_je
 m&view=event&id=714:o-opieke-matki-bozej-i-laski-ducha-swietego-dla-dzieci
 \n
DTSTART;TZID=Europe/Warsaw:20220925T103000
DTEND;TZID=Europe/Warsaw:20220925T103000
LOCATION:Kościół Maryi Wspomożycielki Wiernych w Suchaczu\,Kielecka 12B\,Su
 chacz
SUMMARY:O opiekę Matki Bożej i Łaski Ducha Świętego dla dzieci
URL:https://lecze-salezjanie.pl/index.php?option=com_jem&view=event&id=714:
 o-opieke-matki-bozej-i-laski-ducha-swietego-dla-dzieci
END:VEVENT
END:VCALENDAR