BEGIN:VCALENDAR
VERSION:2.0
PRODID:-//193.239.44.119//NONSGML kigkonsult.se iCalcreator 2.20//
CALSCALE:GREGORIAN
METHOD:PUBLISH
X-WR-TIMEZONE:Europe/Warsaw
BEGIN:VEVENT
UID:event715@Parafia Rzymskokatolicka Najświętszego Serca Jezusowego w Łęcz
 u - Salezjanie
DTSTAMP:20260419T152238Z
CATEGORIES:Msza Święta
DESCRIPTION:+ Józefa Brunowicz - w 20 rocznicę śmierci i Alojzy Brunowicz o
 raz zmarli sąsiedzi\nKategoria: Msza Święta\nLink: https://lecze-salezjani
 e.pl/index.php?option=com_jem&view=event&id=715:jozefa-brunowicz-w-20-rocz
 nice-smierci-i-alojzy-brunowicz-oraz-zmarli-sasiedzi\n
DTSTART;TZID=Europe/Warsaw:20221002T103000
DTEND;TZID=Europe/Warsaw:20221002T103000
LOCATION:Kościół Maryi Wspomożycielki Wiernych w Suchaczu\,Kielecka 12B\,Su
 chacz
SUMMARY:+ Józefa Brunowicz - w 20 rocznicę śmierci i Alojzy Brunowicz oraz 
 zmarli sąsiedzi
URL:https://lecze-salezjanie.pl/index.php?option=com_jem&view=event&id=715:
 jozefa-brunowicz-w-20-rocznice-smierci-i-alojzy-brunowicz-oraz-zmarli-sasi
 edzi
END:VEVENT
END:VCALENDAR