BEGIN:VCALENDAR
VERSION:2.0
PRODID:-//193.239.44.119//NONSGML kigkonsult.se iCalcreator 2.20//
CALSCALE:GREGORIAN
METHOD:PUBLISH
X-WR-TIMEZONE:Europe/Warsaw
BEGIN:VEVENT
UID:event716@Parafia Rzymskokatolicka Najświętszego Serca Jezusowego w Łęcz
 u - Salezjanie
DTSTAMP:20260419T154514Z
CATEGORIES:Msza Święta
DESCRIPTION:+ Helena i Wacław Hornof\, Pelagia i Michał Kandalscy\nKategori
 a: Msza Święta\nLink: https://lecze-salezjanie.pl/index.php?option=com_jem
 &view=event&id=716:helena-i-waclaw-hornof-pelagia-i-michal-kandalscy\n
DTSTART;TZID=Europe/Warsaw:20221016T120000
DTEND;TZID=Europe/Warsaw:20221016T120000
LOCATION:Świetlica Wiejska w Kamionku Wielkim\,Kamionek Wielki 5B\,Kamionek
  Wielki
SUMMARY:+ Helena i Wacław Hornof\, Pelagia i Michał Kandalscy
URL:https://lecze-salezjanie.pl/index.php?option=com_jem&view=event&id=716:
 helena-i-waclaw-hornof-pelagia-i-michal-kandalscy
END:VEVENT
END:VCALENDAR