BEGIN:VCALENDAR
VERSION:2.0
PRODID:-//193.239.44.119//NONSGML kigkonsult.se iCalcreator 2.20//
CALSCALE:GREGORIAN
METHOD:PUBLISH
X-WR-TIMEZONE:Europe/Warsaw
BEGIN:VEVENT
UID:event717@Parafia Rzymskokatolicka Najświętszego Serca Jezusowego w Łęcz
 u - Salezjanie
DTSTAMP:20260419T152323Z
CATEGORIES:Msza Święta
DESCRIPTION:O dary Bożej Miłości\, zdrowie\, nieustanną opiekę Matki Bożej 
 dla Jadwigi Makarewicz\nKategoria: Msza Święta\nLink: https://lecze-salezj
 anie.pl/index.php?option=com_jem&view=event&id=717:o-dary-bozej-milosci-zd
 rowie-nieustanna-opieke-matki-bozej-dla-jadwigi-makarewicz\n
DTSTART;TZID=Europe/Warsaw:20221014T170000
DTEND;TZID=Europe/Warsaw:20221014T170000
LOCATION:Kościół Maryi Wspomożycielki Wiernych w Suchaczu\,Kielecka 12B\,Su
 chacz
SUMMARY:O dary Bożej Miłości\, zdrowie\, nieustanną opiekę Matki Bożej dla 
 Jadwigi Makarewicz
URL:https://lecze-salezjanie.pl/index.php?option=com_jem&view=event&id=717:
 o-dary-bozej-milosci-zdrowie-nieustanna-opieke-matki-bozej-dla-jadwigi-mak
 arewicz
END:VEVENT
END:VCALENDAR