BEGIN:VCALENDAR
VERSION:2.0
PRODID:-//193.239.44.119//NONSGML kigkonsult.se iCalcreator 2.20//
CALSCALE:GREGORIAN
METHOD:PUBLISH
X-WR-TIMEZONE:Europe/Warsaw
BEGIN:VEVENT
UID:event718@Parafia Rzymskokatolicka Najświętszego Serca Jezusowego w Łęcz
 u - Salezjanie
DTSTAMP:20260419T152404Z
CATEGORIES:Msza Święta
DESCRIPTION:O dary Bożej Miłości\, zdrowie\, nieustanną opiekę Matki Bożej 
 dla Jadwigi Wilczyńskiej\nKategoria: Msza Święta\nLink: https://lecze-sale
 zjanie.pl/index.php?option=com_jem&view=event&id=718:o-dary-bozej-milosci-
 zdrowie-nieustanna-opieke-matki-bozej-dla-jadwigi-wilczynskiej\n
DTSTART;TZID=Europe/Warsaw:20221016T103000
DTEND;TZID=Europe/Warsaw:20221016T103000
LOCATION:Kościół Maryi Wspomożycielki Wiernych w Suchaczu\,Kielecka 12B\,Su
 chacz
SUMMARY:O dary Bożej Miłości\, zdrowie\, nieustanną opiekę Matki Bożej dla 
 Jadwigi Wilczyńskiej
URL:https://lecze-salezjanie.pl/index.php?option=com_jem&view=event&id=718:
 o-dary-bozej-milosci-zdrowie-nieustanna-opieke-matki-bozej-dla-jadwigi-wil
 czynskiej
END:VEVENT
END:VCALENDAR