BEGIN:VCALENDAR
VERSION:2.0
PRODID:-//193.239.44.119//NONSGML kigkonsult.se iCalcreator 2.20//
CALSCALE:GREGORIAN
METHOD:PUBLISH
X-WR-TIMEZONE:Europe/Warsaw
BEGIN:VEVENT
UID:event720@Parafia Rzymskokatolicka Najświętszego Serca Jezusowego w Łęcz
 u - Salezjanie
DTSTAMP:20260419T134722Z
CATEGORIES:Msza Święta
DESCRIPTION:+ Krzysztof Bocian z ofiar pogrzebu\nKategoria: Msza Święta\nLi
 nk: https://lecze-salezjanie.pl/index.php?option=com_jem&view=event&id=720
 :krzysztof-bocian-z-ofiar-pogrzebu\n
DTSTART;TZID=Europe/Warsaw:20221113T120000
DTEND;TZID=Europe/Warsaw:20221113T120000
LOCATION:Świetlica Wiejska w Kamionku Wielkim\,Kamionek Wielki 5B\,Kamionek
  Wielki
SUMMARY:+ Krzysztof Bocian z ofiar pogrzebu
URL:https://lecze-salezjanie.pl/index.php?option=com_jem&view=event&id=720:
 krzysztof-bocian-z-ofiar-pogrzebu
END:VEVENT
END:VCALENDAR