BEGIN:VCALENDAR
VERSION:2.0
PRODID:-//193.239.44.119//NONSGML kigkonsult.se iCalcreator 2.20//
CALSCALE:GREGORIAN
METHOD:PUBLISH
X-WR-TIMEZONE:Europe/Warsaw
BEGIN:VEVENT
UID:event723@Parafia Rzymskokatolicka Najświętszego Serca Jezusowego w Łęcz
 u - Salezjanie
DTSTAMP:20260419T184628Z
CATEGORIES:Msza Święta
DESCRIPTION:O ulgę w cierpieniu\, szczęśliwą śmierć i opiekę Matki Bożej dl
 a Ireny Andronik\nKategoria: Msza Święta\nLink: https://lecze-salezjanie.p
 l/index.php?option=com_jem&view=event&id=723:o-ulge-w-cierpieniu-szczesliw
 a-smierc-i-opieke-matki-bozej-dla-ireny-andronik\n
DTSTART;TZID=Europe/Warsaw:20220824T180000
DTEND;TZID=Europe/Warsaw:20220824T180000
LOCATION:Kościół Najświętszego Serca Jezusowego w Łęczu\,Łęcze 48\,Łęcze
SUMMARY:O ulgę w cierpieniu\, szczęśliwą śmierć i opiekę Matki Bożej dla Ir
 eny Andronik
URL:https://lecze-salezjanie.pl/index.php?option=com_jem&view=event&id=723:
 o-ulge-w-cierpieniu-szczesliwa-smierc-i-opieke-matki-bozej-dla-ireny-andro
 nik
END:VEVENT
END:VCALENDAR