BEGIN:VCALENDAR
VERSION:2.0
PRODID:-//193.239.44.119//NONSGML kigkonsult.se iCalcreator 2.20//
CALSCALE:GREGORIAN
METHOD:PUBLISH
X-WR-TIMEZONE:Europe/Warsaw
BEGIN:VEVENT
UID:event724@Parafia Rzymskokatolicka Najświętszego Serca Jezusowego w Łęcz
 u - Salezjanie
DTSTAMP:20260419T184644Z
CATEGORIES:Msza Święta
DESCRIPTION:Za zmarłych z rodziny Kozubal\, Brzezińskich\, Zawilińskich\, B
 aran\, Andratsek\, Szynkowskich\nKategoria: Msza Święta\nLink: https://lec
 ze-salezjanie.pl/index.php?option=com_jem&view=event&id=724:za-zmarlych-z-
 rodziny-kozubal-brzezinskich-zawilinskich-baran-andratsek-szynkowskich\n
DTSTART;TZID=Europe/Warsaw:20220826T180000
DTEND;TZID=Europe/Warsaw:20220826T180000
LOCATION:Kościół Najświętszego Serca Jezusowego w Łęczu\,Łęcze 48\,Łęcze
SUMMARY:Za zmarłych z rodziny Kozubal\, Brzezińskich\, Zawilińskich\, Baran
 \, Andratsek\, Szynkowskich
URL:https://lecze-salezjanie.pl/index.php?option=com_jem&view=event&id=724:
 za-zmarlych-z-rodziny-kozubal-brzezinskich-zawilinskich-baran-andratsek-sz
 ynkowskich
END:VEVENT
END:VCALENDAR