BEGIN:VCALENDAR
VERSION:2.0
PRODID:-//193.239.44.119//NONSGML kigkonsult.se iCalcreator 2.20//
CALSCALE:GREGORIAN
METHOD:PUBLISH
X-WR-TIMEZONE:Europe/Warsaw
BEGIN:VEVENT
UID:event725@Parafia Rzymskokatolicka Najświętszego Serca Jezusowego w Łęcz
 u - Salezjanie
DTSTAMP:20260419T165451Z
CATEGORIES:Msza Święta
DESCRIPTION:+ Wacław Andronik\nKategoria: Msza Święta\nLink: https://lecze-
 salezjanie.pl/index.php?option=com_jem&view=event&id=725:waclaw-andronik\n
DTSTART;TZID=Europe/Warsaw:20220928T180000
DTEND;TZID=Europe/Warsaw:20220928T180000
LOCATION:Kościół Najświętszego Serca Jezusowego w Łęczu\,Łęcze 48\,Łęcze
SUMMARY:+ Wacław Andronik
URL:https://lecze-salezjanie.pl/index.php?option=com_jem&view=event&id=725:
 waclaw-andronik
END:VEVENT
END:VCALENDAR