BEGIN:VCALENDAR
VERSION:2.0
PRODID:-//193.239.44.119//NONSGML kigkonsult.se iCalcreator 2.20//
CALSCALE:GREGORIAN
METHOD:PUBLISH
X-WR-TIMEZONE:Europe/Warsaw
BEGIN:VEVENT
UID:event726@Parafia Rzymskokatolicka Najświętszego Serca Jezusowego w Łęcz
 u - Salezjanie
DTSTAMP:20260419T154514Z
CATEGORIES:Msza Święta
DESCRIPTION:Za męża + Stanisława Chrząszcz\, zmarłych rodziców Osmańskich\,
  brata Jana Osmańskiego\, teściów Chrząszcz i wnuczka Sławomira Chrząszcz
 \nKategoria: Msza Święta\nLink: https://lecze-salezjanie.pl/index.php?opti
 on=com_jem&view=event&id=726:za-meza-stanislawa-chrzaszcz-zmarlych-rodzico
 w-osmanskich-brata-jana-osmanskiego-tesciow-chrzaszcz-i-wnuczka-slawomira-
 chrzaszcz\n
DTSTART;TZID=Europe/Warsaw:20221008T180000
DTEND;TZID=Europe/Warsaw:20221008T180000
LOCATION:Kościół Najświętszego Serca Jezusowego w Łęczu\,Łęcze 48\,Łęcze
SUMMARY:Za męża + Stanisława Chrząszcz\, zmarłych rodziców Osmańskich\, bra
 ta Jana Osmańskiego\, teściów Chrząszcz i wnuczka Sławomira Chrząszcz
URL:https://lecze-salezjanie.pl/index.php?option=com_jem&view=event&id=726:
 za-meza-stanislawa-chrzaszcz-zmarlych-rodzicow-osmanskich-brata-jana-osman
 skiego-tesciow-chrzaszcz-i-wnuczka-slawomira-chrzaszcz
END:VEVENT
END:VCALENDAR