BEGIN:VCALENDAR
VERSION:2.0
PRODID:-//193.239.44.119//NONSGML kigkonsult.se iCalcreator 2.20//
CALSCALE:GREGORIAN
METHOD:PUBLISH
X-WR-TIMEZONE:Europe/Warsaw
BEGIN:VEVENT
UID:event727@Parafia Rzymskokatolicka Najświętszego Serca Jezusowego w Łęcz
 u - Salezjanie
DTSTAMP:20260419T165451Z
CATEGORIES:Msza Święta
DESCRIPTION:+ Marian i Aniela Łazuk\nKategoria: Msza Święta\nLink: https://
 lecze-salezjanie.pl/index.php?option=com_jem&view=event&id=727:marian-i-an
 iela-lazuk\n
DTSTART;TZID=Europe/Warsaw:20220908T170000
DTEND;TZID=Europe/Warsaw:20220908T170000
LOCATION:Kościół Maryi Wspomożycielki Wiernych w Suchaczu\,Kielecka 12B\,Su
 chacz
SUMMARY:+ Marian i Aniela Łazuk
URL:https://lecze-salezjanie.pl/index.php?option=com_jem&view=event&id=727:
 marian-i-aniela-lazuk
END:VEVENT
END:VCALENDAR