BEGIN:VCALENDAR
VERSION:2.0
PRODID:-//193.239.44.119//NONSGML kigkonsult.se iCalcreator 2.20//
CALSCALE:GREGORIAN
METHOD:PUBLISH
X-WR-TIMEZONE:Europe/Warsaw
BEGIN:VEVENT
UID:event72@Parafia Rzymskokatolicka Najświętszego Serca Jezusowego w Łęczu
  - Salezjanie
DTSTAMP:20260420T052503Z
CATEGORIES:Msza Święta
DESCRIPTION:+ Teresa Bąk i zmarli z rodziny\nKategoria: Msza Święta\nLink: 
 https://lecze-salezjanie.pl/index.php?option=com_jem&view=event&id=72:tere
 sa-bak-i-zmarli-z-rodziny\n
DTSTART;TZID=Europe/Warsaw:20220206T090000
DTEND;TZID=Europe/Warsaw:20220206T090000
LOCATION:Kościół Najświętszego Serca Jezusowego w Łęczu\,Łęcze 48\,Łęcze
SUMMARY:+ Teresa Bąk i zmarli z rodziny
URL:https://lecze-salezjanie.pl/index.php?option=com_jem&view=event&id=72:t
 eresa-bak-i-zmarli-z-rodziny
END:VEVENT
END:VCALENDAR