BEGIN:VCALENDAR
VERSION:2.0
PRODID:-//193.239.44.119//NONSGML kigkonsult.se iCalcreator 2.20//
CALSCALE:GREGORIAN
METHOD:PUBLISH
X-WR-TIMEZONE:Europe/Warsaw
BEGIN:VEVENT
UID:event731@Parafia Rzymskokatolicka Najświętszego Serca Jezusowego w Łęcz
 u - Salezjanie
DTSTAMP:20260419T170222Z
CATEGORIES:Msza Święta
DESCRIPTION:ks. Grzegorz Radziszewski SDB\nKategoria: Msza Święta\nLink: ht
 tps://lecze-salezjanie.pl/index.php?option=com_jem&view=event&id=731:ks-gr
 zegorz-radziszewski-sdb\n
DTSTART;TZID=Europe/Warsaw:20220912T180000
DTEND;TZID=Europe/Warsaw:20220912T180000
LOCATION:Kościół Najświętszego Serca Jezusowego w Łęczu\,Łęcze 48\,Łęcze
SUMMARY:ks. Grzegorz Radziszewski SDB
URL:https://lecze-salezjanie.pl/index.php?option=com_jem&view=event&id=731:
 ks-grzegorz-radziszewski-sdb
END:VEVENT
END:VCALENDAR