BEGIN:VCALENDAR
VERSION:2.0
PRODID:-//193.239.44.119//NONSGML kigkonsult.se iCalcreator 2.20//
CALSCALE:GREGORIAN
METHOD:PUBLISH
X-WR-TIMEZONE:Europe/Warsaw
BEGIN:VEVENT
UID:event732@Parafia Rzymskokatolicka Najświętszego Serca Jezusowego w Łęcz
 u - Salezjanie
DTSTAMP:20260419T170222Z
CATEGORIES:Msza Święta
DESCRIPTION:O zdrowie\, Boże Błogosławieństwo\, siły do wytrwania w dobrym 
 i opiekę Matki Bożej dla Mirosławy i Przemysława Kaperzyńskich\nKategoria:
  Msza Święta\nLink: https://lecze-salezjanie.pl/index.php?option=com_jem&v
 iew=event&id=732:o-zdrowie-boze-blogoslawienstwo-sily-do-wytrwania-w-dobry
 m-i-opieke-matki-bozej-dla-miroslawy-i-przemyslawa-kaperzynskich\n
DTSTART;TZID=Europe/Warsaw:20220924T180000
DTEND;TZID=Europe/Warsaw:20220924T180000
LOCATION:Kościół Najświętszego Serca Jezusowego w Łęczu\,Łęcze 48\,Łęcze
SUMMARY:O zdrowie\, Boże Błogosławieństwo\, siły do wytrwania w dobrym i op
 iekę Matki Bożej dla Mirosławy i Przemysława Kaperzyńskich
URL:https://lecze-salezjanie.pl/index.php?option=com_jem&view=event&id=732:
 o-zdrowie-boze-blogoslawienstwo-sily-do-wytrwania-w-dobrym-i-opieke-matki-
 bozej-dla-miroslawy-i-przemyslawa-kaperzynskich
END:VEVENT
END:VCALENDAR