BEGIN:VCALENDAR
VERSION:2.0
PRODID:-//193.239.44.119//NONSGML kigkonsult.se iCalcreator 2.20//
CALSCALE:GREGORIAN
METHOD:PUBLISH
X-WR-TIMEZONE:Europe/Warsaw
BEGIN:VEVENT
UID:event733@Parafia Rzymskokatolicka Najświętszego Serca Jezusowego w Łęcz
 u - Salezjanie
DTSTAMP:20260419T121123Z
CATEGORIES:Msza Święta
DESCRIPTION:Zmarli z rodziny Grączewskich i Kaczka\nKategoria: Msza Święta
 \nLink: https://lecze-salezjanie.pl/index.php?option=com_jem&view=event&id
 =733:zmarli-z-rodziny-graczewskich-i-kaczka\n
DTSTART;TZID=Europe/Warsaw:20221106T090000
DTEND;TZID=Europe/Warsaw:20221106T090000
LOCATION:Kościół Najświętszego Serca Jezusowego w Łęczu\,Łęcze 48\,Łęcze
SUMMARY:Zmarli z rodziny Grączewskich i Kaczka
URL:https://lecze-salezjanie.pl/index.php?option=com_jem&view=event&id=733:
 zmarli-z-rodziny-graczewskich-i-kaczka
END:VEVENT
END:VCALENDAR