BEGIN:VCALENDAR
VERSION:2.0
PRODID:-//193.239.44.119//NONSGML kigkonsult.se iCalcreator 2.20//
CALSCALE:GREGORIAN
METHOD:PUBLISH
X-WR-TIMEZONE:Europe/Warsaw
BEGIN:VEVENT
UID:event735@Parafia Rzymskokatolicka Najświętszego Serca Jezusowego w Łęcz
 u - Salezjanie
DTSTAMP:20260419T165724Z
CATEGORIES:Msza Święta
DESCRIPTION:Msza święta dożynkowa\nKategoria: Msza Święta\nLink: https://le
 cze-salezjanie.pl/index.php?option=com_jem&view=event&id=735:msza-swieta-d
 ozynkowa-1\n
DTSTART;TZID=Europe/Warsaw:20220918T120000
DTEND;TZID=Europe/Warsaw:20220918T120000
LOCATION:Świetlica Wiejska w Kamionku Wielkim\,Kamionek Wielki 5B\,Kamionek
  Wielki
SUMMARY:Msza święta dożynkowa
URL:https://lecze-salezjanie.pl/index.php?option=com_jem&view=event&id=735:
 msza-swieta-dozynkowa-1
END:VEVENT
END:VCALENDAR