BEGIN:VCALENDAR
VERSION:2.0
PRODID:-//193.239.44.119//NONSGML kigkonsult.se iCalcreator 2.20//
CALSCALE:GREGORIAN
METHOD:PUBLISH
X-WR-TIMEZONE:Europe/Warsaw
BEGIN:VEVENT
UID:event738@Parafia Rzymskokatolicka Najświętszego Serca Jezusowego w Łęcz
 u - Salezjanie
DTSTAMP:20260419T165703Z
CATEGORIES:Pogrzeb
DESCRIPTION:+ Marianna Fota\nKategoria: Pogrzeb\nLink: https://lecze-salezj
 anie.pl/index.php?option=com_jem&view=event&id=738:marianna-fota\n
DTSTART;TZID=Europe/Warsaw:20220908T130000
DTEND;TZID=Europe/Warsaw:20220908T130000
LOCATION:Kościół Najświętszego Serca Jezusowego w Łęczu\,Łęcze 48\,Łęcze
SUMMARY:+ Marianna Fota
URL:https://lecze-salezjanie.pl/index.php?option=com_jem&view=event&id=738:
 marianna-fota
END:VEVENT
END:VCALENDAR