BEGIN:VCALENDAR
VERSION:2.0
PRODID:-//193.239.44.119//NONSGML kigkonsult.se iCalcreator 2.20//
CALSCALE:GREGORIAN
METHOD:PUBLISH
X-WR-TIMEZONE:Europe/Warsaw
BEGIN:VEVENT
UID:event739@Parafia Rzymskokatolicka Najświętszego Serca Jezusowego w Łęcz
 u - Salezjanie
DTSTAMP:20260419T165756Z
CATEGORIES:Msza Święta
DESCRIPTION:+ Tadeusz Grochulski - w 7 rocznicę śmierci\nKategoria: Msza Św
 ięta\nLink: https://lecze-salezjanie.pl/index.php?option=com_jem&view=even
 t&id=739:tadeusz-grochulski-w-7-rocznice-smierci\n
DTSTART;TZID=Europe/Warsaw:20220918T090000
DTEND;TZID=Europe/Warsaw:20220918T090000
LOCATION:Kościół Maryi Wspomożycielki Wiernych w Suchaczu\,Kielecka 12B\,Su
 chacz
SUMMARY:+ Tadeusz Grochulski - w 7 rocznicę śmierci
URL:https://lecze-salezjanie.pl/index.php?option=com_jem&view=event&id=739:
 tadeusz-grochulski-w-7-rocznice-smierci
END:VEVENT
END:VCALENDAR