BEGIN:VCALENDAR
VERSION:2.0
PRODID:-//193.239.44.119//NONSGML kigkonsult.se iCalcreator 2.20//
CALSCALE:GREGORIAN
METHOD:PUBLISH
X-WR-TIMEZONE:Europe/Warsaw
BEGIN:VEVENT
UID:event73@Parafia Rzymskokatolicka Najświętszego Serca Jezusowego w Łęczu
  - Salezjanie
DTSTAMP:20260420T052612Z
CATEGORIES:Msza Święta
DESCRIPTION:+ Edward\, Genowefa\, Anna\, Sebastian i zmarli z rodziny\nKate
 goria: Msza Święta\nLink: https://lecze-salezjanie.pl/index.php?option=com
 _jem&view=event&id=73:edward-genowefa-anna-sebastian-i-zmarli-z-rodziny\n
DTSTART;TZID=Europe/Warsaw:20220206T120000
DTEND;TZID=Europe/Warsaw:20220206T120000
LOCATION:Kościół Najświętszego Serca Jezusowego w Łęczu\,Łęcze 48\,Łęcze
SUMMARY:+ Edward\, Genowefa\, Anna\, Sebastian i zmarli z rodziny
URL:https://lecze-salezjanie.pl/index.php?option=com_jem&view=event&id=73:e
 dward-genowefa-anna-sebastian-i-zmarli-z-rodziny
END:VEVENT
END:VCALENDAR