BEGIN:VCALENDAR
VERSION:2.0
PRODID:-//193.239.44.119//NONSGML kigkonsult.se iCalcreator 2.20//
CALSCALE:GREGORIAN
METHOD:PUBLISH
X-WR-TIMEZONE:Europe/Warsaw
BEGIN:VEVENT
UID:event744@Parafia Rzymskokatolicka Najświętszego Serca Jezusowego w Łęcz
 u - Salezjanie
DTSTAMP:20260419T152323Z
CATEGORIES:Msza Święta
DESCRIPTION:Dziękczynna\, z prośbą o dary Bożej Miłości i nieustanną opiekę
  Matki Bożej dla rodziny Katarzyny i Macieja w rocznicę ślubu\nKategoria: 
 Msza Święta\nLink: https://lecze-salezjanie.pl/index.php?option=com_jem&vi
 ew=event&id=744:dziekczynna-z-prosba-o-dary-bozej-milosci-i-nieustanna-opi
 eke-matki-bozej-dla-rodziny-katarzyny-i-macieja-w-rocznice-slubu\n
DTSTART;TZID=Europe/Warsaw:20221013T180000
DTEND;TZID=Europe/Warsaw:20221013T180000
LOCATION:Kościół Najświętszego Serca Jezusowego w Łęczu\,Łęcze 48\,Łęcze
SUMMARY:Dziękczynna\, z prośbą o dary Bożej Miłości i nieustanną opiekę Mat
 ki Bożej dla rodziny Katarzyny i Macieja w rocznicę ślubu
URL:https://lecze-salezjanie.pl/index.php?option=com_jem&view=event&id=744:
 dziekczynna-z-prosba-o-dary-bozej-milosci-i-nieustanna-opieke-matki-bozej-
 dla-rodziny-katarzyny-i-macieja-w-rocznice-slubu
END:VEVENT
END:VCALENDAR