BEGIN:VCALENDAR
VERSION:2.0
PRODID:-//193.239.44.119//NONSGML kigkonsult.se iCalcreator 2.20//
CALSCALE:GREGORIAN
METHOD:PUBLISH
X-WR-TIMEZONE:Europe/Warsaw
BEGIN:VEVENT
UID:event746@Parafia Rzymskokatolicka Najświętszego Serca Jezusowego w Łęcz
 u - Salezjanie
DTSTAMP:20260419T152323Z
CATEGORIES:Msza Święta
DESCRIPTION:O dary Bożej Miłości i nieustanną opiekę Matki Bożej dla Ireny 
 Luty w dniu imienin\nKategoria: Msza Święta\nLink: https://lecze-salezjani
 e.pl/index.php?option=com_jem&view=event&id=746:o-dary-bozej-milosci-i-nie
 ustanna-opieke-matki-bozej-dla-ireny-luty-w-dniu-imienin\n
DTSTART;TZID=Europe/Warsaw:20221020T180000
DTEND;TZID=Europe/Warsaw:20221020T180000
LOCATION:Kościół Najświętszego Serca Jezusowego w Łęczu\,Łęcze 48\,Łęcze
SUMMARY:O dary Bożej Miłości i nieustanną opiekę Matki Bożej dla Ireny Luty
  w dniu imienin
URL:https://lecze-salezjanie.pl/index.php?option=com_jem&view=event&id=746:
 o-dary-bozej-milosci-i-nieustanna-opieke-matki-bozej-dla-ireny-luty-w-dniu
 -imienin
END:VEVENT
END:VCALENDAR