BEGIN:VCALENDAR
VERSION:2.0
PRODID:-//193.239.44.119//NONSGML kigkonsult.se iCalcreator 2.20//
CALSCALE:GREGORIAN
METHOD:PUBLISH
X-WR-TIMEZONE:Europe/Warsaw
BEGIN:VEVENT
UID:event754@Parafia Rzymskokatolicka Najświętszego Serca Jezusowego w Łęcz
 u - Salezjanie
DTSTAMP:20260419T170016Z
CATEGORIES:Msza Święta
DESCRIPTION:+ Jerzy Bonikowski - w 3 rocznicę śmierci\, Helena\, Edmund i R
 yszard oraz Grażyna Sułek\nKategoria: Msza Święta\nLink: https://lecze-sal
 ezjanie.pl/index.php?option=com_jem&view=event&id=754:jerzy-bonikowski-w-3
 -rocznice-smierci-helena-edmund-i-ryszard-oraz-grazyna-sulek\n
DTSTART;TZID=Europe/Warsaw:20220925T090000
DTEND;TZID=Europe/Warsaw:20220925T090000
LOCATION:Kościół Maryi Wspomożycielki Wiernych w Suchaczu\,Kielecka 12B\,Su
 chacz
SUMMARY:+ Jerzy Bonikowski - w 3 rocznicę śmierci\, Helena\, Edmund i Rysza
 rd oraz Grażyna Sułek
URL:https://lecze-salezjanie.pl/index.php?option=com_jem&view=event&id=754:
 jerzy-bonikowski-w-3-rocznice-smierci-helena-edmund-i-ryszard-oraz-grazyna
 -sulek
END:VEVENT
END:VCALENDAR