BEGIN:VCALENDAR
VERSION:2.0
PRODID:-//193.239.44.119//NONSGML kigkonsult.se iCalcreator 2.20//
CALSCALE:GREGORIAN
METHOD:PUBLISH
X-WR-TIMEZONE:Europe/Warsaw
BEGIN:VEVENT
UID:event755@Parafia Rzymskokatolicka Najświętszego Serca Jezusowego w Łęcz
 u - Salezjanie
DTSTAMP:20260419T165329Z
CATEGORIES:Pogrzeb
DESCRIPTION:+ Barbara Straszkiewicz\nKategoria: Pogrzeb\nLink: https://lecz
 e-salezjanie.pl/index.php?option=com_jem&view=event&id=755:barbara-straszk
 iewicz\n
DTSTART;TZID=Europe/Warsaw:20220919T110000
DTEND;TZID=Europe/Warsaw:20220919T110000
LOCATION:Kościół Najświętszego Serca Jezusowego w Łęczu\,Łęcze 48\,Łęcze
SUMMARY:+ Barbara Straszkiewicz
URL:https://lecze-salezjanie.pl/index.php?option=com_jem&view=event&id=755:
 barbara-straszkiewicz
END:VEVENT
END:VCALENDAR