BEGIN:VCALENDAR
VERSION:2.0
PRODID:-//193.239.44.119//NONSGML kigkonsult.se iCalcreator 2.20//
CALSCALE:GREGORIAN
METHOD:PUBLISH
X-WR-TIMEZONE:Europe/Warsaw
BEGIN:VEVENT
UID:event756@Parafia Rzymskokatolicka Najświętszego Serca Jezusowego w Łęcz
 u - Salezjanie
DTSTAMP:20260419T165451Z
CATEGORIES:Pogrzeb
DESCRIPTION:+ Łukasz Chodulski\nKategoria: Pogrzeb\nLink: https://lecze-sal
 ezjanie.pl/index.php?option=com_jem&view=event&id=756:lukasz-chodulski\n
DTSTART;TZID=Europe/Warsaw:20220929T120000
DTEND;TZID=Europe/Warsaw:20220929T120000
LOCATION:Kościół Najświętszego Serca Jezusowego w Łęczu\,Łęcze 48\,Łęcze
SUMMARY:+ Łukasz Chodulski
URL:https://lecze-salezjanie.pl/index.php?option=com_jem&view=event&id=756:
 lukasz-chodulski
END:VEVENT
END:VCALENDAR