BEGIN:VCALENDAR
VERSION:2.0
PRODID:-//193.239.44.119//NONSGML kigkonsult.se iCalcreator 2.20//
CALSCALE:GREGORIAN
METHOD:PUBLISH
X-WR-TIMEZONE:Europe/Warsaw
BEGIN:VEVENT
UID:event760@Parafia Rzymskokatolicka Najświętszego Serca Jezusowego w Łęcz
 u - Salezjanie
DTSTAMP:20260419T170134Z
CATEGORIES:Msza Święta
DESCRIPTION:Dziękczynna\, z prośbą o dary Bożej Miłości dla rodziny Urszuli
  i Daniela - z okazji 3 rocznicy ślubu\nKategoria: Msza Święta\nLink: http
 s://lecze-salezjanie.pl/index.php?option=com_jem&view=event&id=760:dziekcz
 ynna-z-prosba-o-dary-bozej-milosci-dla-rodziny-urszuli-i-daniela-z-okazji-
 3-rocznicy-slubu\n
DTSTART;TZID=Europe/Warsaw:20220927T170000
DTEND;TZID=Europe/Warsaw:20220927T170000
LOCATION:Kościół Maryi Wspomożycielki Wiernych w Suchaczu\,Kielecka 12B\,Su
 chacz
SUMMARY:Dziękczynna\, z prośbą o dary Bożej Miłości dla rodziny Urszuli i D
 aniela - z okazji 3 rocznicy ślubu
URL:https://lecze-salezjanie.pl/index.php?option=com_jem&view=event&id=760:
 dziekczynna-z-prosba-o-dary-bozej-milosci-dla-rodziny-urszuli-i-daniela-z-
 okazji-3-rocznicy-slubu
END:VEVENT
END:VCALENDAR