BEGIN:VCALENDAR
VERSION:2.0
PRODID:-//193.239.44.119//NONSGML kigkonsult.se iCalcreator 2.20//
CALSCALE:GREGORIAN
METHOD:PUBLISH
X-WR-TIMEZONE:Europe/Warsaw
BEGIN:VEVENT
UID:event763@Parafia Rzymskokatolicka Najświętszego Serca Jezusowego w Łęcz
 u - Salezjanie
DTSTAMP:20260419T152404Z
CATEGORIES:Msza Święta
DESCRIPTION:Dziękczynna\, z prośbą o dary Bożej Miłości i nieustanną opiekę
  Matki Bożej dla rodziny Elżbiety i Marcina - z okazji 12 rocznicy ślubu\n
 Kategoria: Msza Święta\nLink: https://lecze-salezjanie.pl/index.php?option
 =com_jem&view=event&id=763:dziekczynna-z-prosba-o-dary-bozej-milosci-i-nie
 ustanna-pieke-matki-bozej-dla-rodziny-elzbiety-i-marcina-z-okazji-12-roczn
 icy-slubu\n
DTSTART;TZID=Europe/Warsaw:20221010T170000
DTEND;TZID=Europe/Warsaw:20221010T170000
LOCATION:Kościół Maryi Wspomożycielki Wiernych w Suchaczu\,Kielecka 12B\,Su
 chacz
SUMMARY:Dziękczynna\, z prośbą o dary Bożej Miłości i nieustanną opiekę Mat
 ki Bożej dla rodziny Elżbiety i Marcina - z okazji 12 rocznicy ślubu
URL:https://lecze-salezjanie.pl/index.php?option=com_jem&view=event&id=763:
 dziekczynna-z-prosba-o-dary-bozej-milosci-i-nieustanna-pieke-matki-bozej-d
 la-rodziny-elzbiety-i-marcina-z-okazji-12-rocznicy-slubu
END:VEVENT
END:VCALENDAR