BEGIN:VCALENDAR
VERSION:2.0
PRODID:-//193.239.44.119//NONSGML kigkonsult.se iCalcreator 2.20//
CALSCALE:GREGORIAN
METHOD:PUBLISH
X-WR-TIMEZONE:Europe/Warsaw
BEGIN:VEVENT
UID:event768@Parafia Rzymskokatolicka Najświętszego Serca Jezusowego w Łęcz
 u - Salezjanie
DTSTAMP:20260419T152237Z
CATEGORIES:Msza Święta
DESCRIPTION:Prośba o łaskę życia wiecznego dla + Ireny i Maksymiliana\nKate
 goria: Msza Święta\nLink: https://lecze-salezjanie.pl/index.php?option=com
 _jem&view=event&id=768:prosba-o-laske-zycia-wiecznego-dla-ireny-i-maksymil
 iana\n
DTSTART;TZID=Europe/Warsaw:20221023T103000
DTEND;TZID=Europe/Warsaw:20221023T103000
LOCATION:Kościół Maryi Wspomożycielki Wiernych w Suchaczu\,Kielecka 12B\,Su
 chacz
SUMMARY:Prośba o łaskę życia wiecznego dla + Ireny i Maksymiliana
URL:https://lecze-salezjanie.pl/index.php?option=com_jem&view=event&id=768:
 prosba-o-laske-zycia-wiecznego-dla-ireny-i-maksymiliana
END:VEVENT
END:VCALENDAR