BEGIN:VCALENDAR
VERSION:2.0
PRODID:-//193.239.44.119//NONSGML kigkonsult.se iCalcreator 2.20//
CALSCALE:GREGORIAN
METHOD:PUBLISH
X-WR-TIMEZONE:Europe/Warsaw
BEGIN:VEVENT
UID:event769@Parafia Rzymskokatolicka Najświętszego Serca Jezusowego w Łęcz
 u - Salezjanie
DTSTAMP:20260419T152324Z
CATEGORIES:Msza Święta
DESCRIPTION:Dziękczynna\, z prośbą o dary Bożej Miłości dla rodziny Elżbiet
 y i Wacława Domin - w 30 rocznicę ślubu\nKategoria: Msza Święta\nLink: htt
 ps://lecze-salezjanie.pl/index.php?option=com_jem&view=event&id=769:dziekc
 zynna-z-prosba-o-dary-bozej-milosci-dla-rodziny-elzbiety-i-waclawa-domin-w
 -30-rocznice-slubu\n
DTSTART;TZID=Europe/Warsaw:20221024T170000
DTEND;TZID=Europe/Warsaw:20221024T170000
LOCATION:Kościół Maryi Wspomożycielki Wiernych w Suchaczu\,Kielecka 12B\,Su
 chacz
SUMMARY:Dziękczynna\, z prośbą o dary Bożej Miłości dla rodziny Elżbiety i 
 Wacława Domin - w 30 rocznicę ślubu
URL:https://lecze-salezjanie.pl/index.php?option=com_jem&view=event&id=769:
 dziekczynna-z-prosba-o-dary-bozej-milosci-dla-rodziny-elzbiety-i-waclawa-d
 omin-w-30-rocznice-slubu
END:VEVENT
END:VCALENDAR