BEGIN:VCALENDAR
VERSION:2.0
PRODID:-//193.239.44.119//NONSGML kigkonsult.se iCalcreator 2.20//
CALSCALE:GREGORIAN
METHOD:PUBLISH
X-WR-TIMEZONE:Europe/Warsaw
BEGIN:VEVENT
UID:event772@Parafia Rzymskokatolicka Najświętszego Serca Jezusowego w Łęcz
 u - Salezjanie
DTSTAMP:20260419T152559Z
CATEGORIES:Msza Święta
DESCRIPTION:+ Zbigniew Szewczyk - w 10 rocznicę śmierci oraz zmarli rodzice
 \nKategoria: Msza Święta\nLink: https://lecze-salezjanie.pl/index.php?opti
 on=com_jem&view=event&id=772:zbigniew-szewczyk-w-10-rocznice-smierci-oraz-
 zmarli-rodzice\n
DTSTART;TZID=Europe/Warsaw:20221030T103000
DTEND;TZID=Europe/Warsaw:20221030T103000
LOCATION:Kościół Maryi Wspomożycielki Wiernych w Suchaczu\,Kielecka 12B\,Su
 chacz
SUMMARY:+ Zbigniew Szewczyk - w 10 rocznicę śmierci oraz zmarli rodzice
URL:https://lecze-salezjanie.pl/index.php?option=com_jem&view=event&id=772:
 zbigniew-szewczyk-w-10-rocznice-smierci-oraz-zmarli-rodzice
END:VEVENT
END:VCALENDAR