BEGIN:VCALENDAR
VERSION:2.0
PRODID:-//193.239.44.119//NONSGML kigkonsult.se iCalcreator 2.20//
CALSCALE:GREGORIAN
METHOD:PUBLISH
X-WR-TIMEZONE:Europe/Warsaw
BEGIN:VEVENT
UID:event773@Parafia Rzymskokatolicka Najświętszego Serca Jezusowego w Łęcz
 u - Salezjanie
DTSTAMP:20260419T152324Z
CATEGORIES:Msza Święta
DESCRIPTION:+ Henryk\, Wacław\, Irena i zmarli z rodziny Andrukiewiczów\, A
 ndroników\, Pankiewiczów\, Łazuków\, Czyżewskich i Bieleckich\nKategoria: 
 Msza Święta\nLink: https://lecze-salezjanie.pl/index.php?option=com_jem&vi
 ew=event&id=773:henryk-waclaw-irena-i-zmarli-z-rodziny-andrukiewiczow-andr
 onikow-pankiewiczow-lazukow-czyzewskich-i-bieleckich\n
DTSTART;TZID=Europe/Warsaw:20221101T103000
DTEND;TZID=Europe/Warsaw:20221101T103000
LOCATION:Kościół Maryi Wspomożycielki Wiernych w Suchaczu\,Kielecka 12B\,Su
 chacz
SUMMARY:+ Henryk\, Wacław\, Irena i zmarli z rodziny Andrukiewiczów\, Andro
 ników\, Pankiewiczów\, Łazuków\, Czyżewskich i Bieleckich
URL:https://lecze-salezjanie.pl/index.php?option=com_jem&view=event&id=773:
 henryk-waclaw-irena-i-zmarli-z-rodziny-andrukiewiczow-andronikow-pankiewic
 zow-lazukow-czyzewskich-i-bieleckich
END:VEVENT
END:VCALENDAR