BEGIN:VCALENDAR
VERSION:2.0
PRODID:-//193.239.44.119//NONSGML kigkonsult.se iCalcreator 2.20//
CALSCALE:GREGORIAN
METHOD:PUBLISH
X-WR-TIMEZONE:Europe/Warsaw
BEGIN:VEVENT
UID:event775@Parafia Rzymskokatolicka Najświętszego Serca Jezusowego w Łęcz
 u - Salezjanie
DTSTAMP:20260419T120945Z
CATEGORIES:Msza Święta
DESCRIPTION:+ Jadwiga i Józef Jurgielewicz\nKategoria: Msza Święta\nLink: h
 ttps://lecze-salezjanie.pl/index.php?option=com_jem&view=event&id=775:jadw
 iga-i-jozef-jurgielewicz\n
DTSTART;TZID=Europe/Warsaw:20221110T170000
DTEND;TZID=Europe/Warsaw:20221110T170000
LOCATION:Kościół Maryi Wspomożycielki Wiernych w Suchaczu\,Kielecka 12B\,Su
 chacz
SUMMARY:+ Jadwiga i Józef Jurgielewicz
URL:https://lecze-salezjanie.pl/index.php?option=com_jem&view=event&id=775:
 jadwiga-i-jozef-jurgielewicz
END:VEVENT
END:VCALENDAR